BEGIN:VCALENDAR
VERSION:2.0
PRODID:-//wp-events-plugin.com//7.2.3.1//EN
TZID:Europe/Istanbul
X-WR-TIMEZONE:Europe/Istanbul
BEGIN:VEVENT
UID:49@tribe-uk.com
DTSTART;TZID=Europe/London:20260422T093000
DTEND;TZID=Europe/London:20260429T170000
DTSTAMP:20260331T182511Z
URL:https://www.tribe-uk.com/events_tribe/lewis-deep-democracy-level-3-lon
 don/
SUMMARY:Lewis Deep Democracy Level 3 (LONDON)
DESCRIPTION:The 2 1/2-day Lewis Deep Democracy Level 3 course is an advance
 d level training that will focus our learning on going deeper below the wa
 terline by learning about LDD Step 5 tools such as surfacing\, argument an
 d conflict resolution. You will also learn more about the way in which con
 flict affects you as a facilitator.\n\nThe program is a combination of the
 ory and practice and will place a strong focus on your experience within t
 he group. You will be able to continue to practice your facilitation skill
 s in the group and develop your neutrality muscle through personal awarene
 ss.  This program specifically focuses on understanding and developing th
 e skills to work with unconscious processes that lie below the waterline:\
 n\n 	Edge Behaviour: Gain awareness on the relationship between edge behav
 iour and autonomic nervous system response and its implications to LDD pra
 ctice.\n 	Reflective Listening: Enhance your listening skills for deepenin
 g others understanding as a foundation for surfacing.\n 	Surfacing: Learn 
 how to bring clarity and directness in group settings.\n 	Argument and Con
 flict: Understand how tension arises within groups through the lens of rol
 e theory and learn ways to work with deeper levels of tension with DD conf
 lict resolution processes.\n 	Rank and Privilege: Recognise power dynamics
  in relation to rank and privilege and learn how to work with them.\n\nThe
  2 1/2-day course is designed to be delivered in a 1/2 day + 2 days format
 . The first 1/2 day will be delivered online and  2 days will be delivere
 d in-person. Please find the session dates and times below:\n\n 	April 22n
 d 2026 @ 9:30am-12:30pm (BST) - online\n 	April 28th-29th 2026 @ 9:30am-5p
 m (BST) - in-person in London (venue: Lift Islington)\n\nParticipants comp
 leting the Lewis Deep Democracy Level 3 course can enhance their learning 
 in this methodology by participating in the Lewis Deep Democracy Level 4 c
 ourse.\nWho is it for?\n\n 	Leaders\, change agents\,  trainers\, executi
 ve and team coaches and consultants who want to deepen their understanding
  and skills in using the tools of Lewis Deep Democracy. Participants are r
 equired to have completed the foundational Deep Democracy trainings of Lev
 el 1 and Level 2 course or alternatively the CoResolve Programme.\n\nAbout
  the Facilitators\nPayam Yuce Isik is an executive and team coach and faci
 litator working with leaders and organisations in improving dialogue\, fac
 ilitating change and developing leadership and relationship capacity. She 
 has gained extensive experience in leadership and organisational developme
 nt\, change management and capability development working with public\, pr
 ivate and non-profit sectors. Through her work\, Payam helps leaders navig
 ate complex relationship systems and change\, lead with purpose and clarit
 y. Her work with groups and teams focuses on building a trusting culture\,
  engaging diverse perspectives\, allowing inclusive decision making\, and 
 holding safe and courageous spaces for polarisation and conflict to emerge
  into mutual learning\, growth and creativity.\n\nPayam is an accredited L
 DD facilitator\, qualified Deep Democracy instructor and an Elder in the L
 DD community.\n\npayam@tribe-uk.com\nJenny Leclezio is a masterful facilit
 ator and coach\, with many years of corporate experience. Her passion lies
  in developing leaders and fostering healthy relationships in the workplac
 e. Jenny has worked with the Lewis method of Deep democracy for more than 
 2 decades\, directly under the tutelage of Myrna Lewis and was one of the 
 first instructors trained in South Africa.\nJenny is an accredited LDD fac
 ilitator\, qualified Deep Democracy instructor and an Elder in the LDD com
 munity.\njenny@shine.global
ATTACH;FMTTYPE=image/jpeg:https://i0.wp.com/www.tribe-uk.com/wp-content/up
 loads/2020/01/Deep-Democracy-Level-3.jpg?fit=2000%2C1500&ssl=1
CATEGORIES:Deep Democracy
LOCATION:Lift Islington\, 45 White Lion Street\, London\, N1 9PW\, United K
 ingdom
X-APPLE-STRUCTURED-LOCATION;VALUE=URI;X-ADDRESS=45 White Lion Street\, Lond
 on\, N1 9PW\, United Kingdom;X-APPLE-RADIUS=100;X-TITLE=Lift Islington:geo
 :0,0
END:VEVENT
BEGIN:VTIMEZONE
TZID:Europe/London
X-LIC-LOCATION:Europe/London
BEGIN:DAYLIGHT
DTSTART:20260329T020000
TZOFFSETFROM:+0000
TZOFFSETTO:+0100
TZNAME:BST
END:DAYLIGHT
END:VTIMEZONE
END:VCALENDAR