BEGIN:VCALENDAR
VERSION:2.0
PRODID:-//wp-events-plugin.com//7.2.3.1//EN
TZID:Europe/Istanbul
X-WR-TIMEZONE:Europe/Istanbul
BEGIN:VEVENT
UID:52@tribe-uk.com
DTSTART;TZID=Europe/Berlin:20260521T093000
DTEND;TZID=Europe/Berlin:20260603T170000
DTSTAMP:20260112T163231Z
URL:https://www.tribe-uk.com/events_tribe/lewis-deep-democracy-level-3-ber
 lin/
SUMMARY:Lewis Deep Democracy Level 3 (BERLIN)
DESCRIPTION:The 2 1/2-day Lewis Deep Democracy Level 3 course is an advance
 d level training that will focus our learning on going deeper below the wa
 terline by learning about LDD Step 5 tools such as surfacing\, argument an
 d conflict resolution. You will also learn more about the way in which con
 flict affects you as a facilitator.\n\nThe program is a combination of the
 ory and practice and will place a strong focus on your experience within t
 he group. You will be able to continue to practice your facilitation skill
 s in the group and develop your neutrality muscle through personal awarene
 ss.  This program specifically focuses on understanding and developing th
 e skills to work with unconscious processes that lie below the waterline:\
 n\n 	Edge Behaviour: Gain awareness on the relationship between edge behav
 iour and autonomic nervous system response and its implications to LDD pra
 ctice.\n 	Reflective Listening: Enhance your listening skills for deepenin
 g others understanding as a foundation for surfacing.\n 	Surfacing: Learn 
 how to bring clarity and directness in group settings.\n 	Argument and Con
 flict: Understand how tension arises within groups through the lens of rol
 e theory and learn ways to work with deeper levels of tension with DD conf
 lict resolution processes.\n 	Rank and Privilege: Recognise power dynamics
  in relation to rank and privilege and learn how to work with them.\n\nThe
  2 1/2-day course is designed to be delivered in a 1/2 day + 2 days format
 . The first 1/2 day will be delivered online and  2 days will be delivere
 d in-person. Please find the session dates and times below:\n\n 	May 21st 
 2026 @ 9:30am-12:30pm (CET) - online\n 	June 2nd-3rd 2026 @ 9:30am-5pm (CE
 T) - in-person in Berlin (venue: iac Berlin)\n\nParticipants completing th
 e Lewis Deep Democracy Level 3 course can enhance their learning in this m
 ethodology by participating in the Lewis Deep Democracy Level 4 course.\nW
 ho is it for?\n\n 	Leaders\, change agents\,  trainers\, executive and te
 am coaches and consultants who want to deepen their understanding and skil
 ls in using the tools of Lewis Deep Democracy. Participants are required t
 o have completed the foundational Deep Democracy trainings of Level 1 and 
 Level 2 course or alternatively the CoResolve Programme.\n\nAbout the Faci
 litators\nPayam Yuce Isik is an executive and team coach and facilitator w
 orking with leaders and organisations in improving dialogue\, facilitating
  change and developing leadership and relationship capacity. She has gaine
 d extensive experience in leadership and organisational development\, chan
 ge management and capability development working with public\, private and
  non-profit sectors. Through her work\, Payam helps leaders navigate compl
 ex relationship systems and change\, lead with purpose and clarity. Her wo
 rk with groups and teams focuses on building a trusting culture\, engaging
  diverse perspectives\, allowing inclusive decision making\, and holding s
 afe and courageous spaces for polarisation and conflict to emerge into mut
 ual learning\, growth and creativity.\n\nPayam is an accredited LDD facili
 tator\, qualified Deep Democracy instructor and an Elder in the LDD commun
 ity.\n\npayam@tribe-uk.com\nTo Book Your Spot\nThis course will be run in 
 partnership with resense360.  Please click here  for more information an
 d to sign up.
ATTACH;FMTTYPE=image/jpeg:https://i0.wp.com/www.tribe-uk.com/wp-content/up
 loads/2020/01/Deep-Democracy-Level-3.jpg?fit=2000%2C1500&ssl=1
CATEGORIES:Deep Democracy
END:VEVENT
BEGIN:VTIMEZONE
TZID:Europe/Berlin
X-LIC-LOCATION:Europe/Berlin
BEGIN:DAYLIGHT
DTSTART:20260329T030000
TZOFFSETFROM:+0100
TZOFFSETTO:+0200
TZNAME:CEST
END:DAYLIGHT
END:VTIMEZONE
END:VCALENDAR