BEGIN:VCALENDAR
VERSION:2.0
PRODID:-//wp-events-plugin.com//7.2.3.1//EN
TZID:Europe/Istanbul
X-WR-TIMEZONE:Europe/Istanbul
BEGIN:VEVENT
UID:51@tribe-uk.com
DTSTART;TZID=Europe/Berlin:20260604T093000
DTEND;TZID=Europe/Berlin:20260709T170000
DTSTAMP:20260112T162222Z
URL:https://www.tribe-uk.com/events_tribe/coresolve-deep-democracy-foundat
 ions-for-leaders-facilitators-berlin-3/
SUMMARY:CoResolve - Deep Democracy Foundations for Leaders & Facilitators (
 BERLIN)
DESCRIPTION:CoResolve-Deep Democracy Foundations for Leaders &amp\; Facilit
 ators is designed for leaders\, managers\, facilitators and coaches who fi
 nd themselves working with interpersonal\, team/group and client dynamics.
  Based on the foundation of Lewis Deep Democracy\, this course gives leade
 rs and facilitators the theoretical background and experiential learning o
 pportunities that they need to begin using the powerful tools of the Lewis
  Deep Democracy in their day-to-day work environments and processes.\n\nCo
 Resolve training will increase your capacity to work with complexity and s
 ucceed in turbulent times by helping you understand group/relationship dyn
 amics and by offering practical tools for working with differences in a gr
 oup and by increasing your conflict literacy to turn destructive conflict 
 into creative tension. This program provides knowledge and practical tools
  in the following areas:\n\n 	Collaborative Decision Making -\n\n 	Facilit
 ate dynamic conversations which unleash engagement creativity and exciteme
 nt.\n 	Harness the power of collective intelligence by enabling the most q
 uiet participants to find their voice and express their views.\n 	Create s
 afety in large or small groups for difficult conversations to take place.\
 n 	Search for the wisdom of the minority views and improve decision-making
  by incorporating this valuable information.\n\n\n 	Understanding Group Dy
 namics -\n\n 	Read the dynamics of a group\, pick up on the early signs of
  resistance and emerging conflict and act in a timely manner to reduce ten
 sion.\n 	Understand the obstacles to good communication and build the foun
 dations for shared understanding.\n 	Observe group dynamics that exist bey
 ond individuals and manage them for more effective teamwork.   \n 	Begin
  and end meetings with a powerful way to connect the group and get a handl
 e on what is happening in the room. \n\n\n 	Resolving Tension and Conflic
 t -\n\n 	Recognise the underlying tensions that block a group's progress\,
  diagnose when group dynamics become polarised and rigid\, and know what f
 acilitations tools to use in such situations.\n 	Resolve differences of op
 inions\, arguments and conflicts instead of allowing anger and blaming to 
 continue. Learn to unleash the creative potential that lies within every c
 onflict. \n 	Use tensions and conflict as an opportunity for learning and
  as a way to improve relationships.\n\n\n\nThis 3-day programme is designe
 d to be delivered in a 2 days + 1 day format. The first 2 days will be del
 ivered in-person and final and 3rd day will be delivered online. Please fi
 nd the session dates and times below:\n\n 	June 4th-5th  2026 @ 9:30am-5p
 m (CET) - in-person in Berlin (venue: iac Berlin)\n 	July 9th  2026 @ 9:3
 0am-5pm (CET) - online\n\nParticipants completing the 3-day CoResolve - De
 ep Democracy Foundations course can enhance their learning in this methodo
 logy by participating in the Lewis Deep Democracy Level 3 course.\nWho is 
 it for?\n\n 	Facilitators\, coaches and experienced and emerging leaders -
  everyone who works with relationship dynamics in groups\, teams\, organis
 ations\n\nAbout the Facilitators\nPayam Yuce Isik is an executive and team
  coach and facilitator working with leaders and organisations in improving
  dialogue\, facilitating change and developing leadership and relationship
  capacity. She has gained extensive experience in leadership and organisat
 ional development\, change management and capability development working w
 ith public\, private and non-profit sectors. Through her work\, Payam help
 s leaders navigate complex relationship systems and change\, lead with pur
 pose and clarity. Her work with groups and teams focuses on building a tru
 sting culture\, engaging diverse perspectives\, allowing inclusive decisio
 n making\, and holding safe and courageous spaces for polarisation and con
 flict to emerge into mutual learning\, growth and creativity.\n\nPayam is 
 an accredited LDD facilitator\, qualified Deep Democracy Level1-4 and CoRe
 solve instructor and Elder in the Lewis Deep Democracy community.\n\npayam
 @tribe-uk.com\nTo Book Your Spot\nThis course will be run in partnership w
 ith resense360.  Please click here  for more information and to sign up.
ATTACH;FMTTYPE=image/jpeg:https://i0.wp.com/www.tribe-uk.com/wp-content/up
 loads/2020/01/t_web.jpg?fit=800%2C600&ssl=1
LOCATION:iac Berlin\, Linienstraße 65A\, Berlin\, 10119\, Germany
X-APPLE-STRUCTURED-LOCATION;VALUE=URI;X-ADDRESS=Linienstraße 65A\, Berlin\
 , 10119\, Germany;X-APPLE-RADIUS=100;X-TITLE=iac Berlin:geo:0,0
END:VEVENT
BEGIN:VTIMEZONE
TZID:Europe/Berlin
X-LIC-LOCATION:Europe/Berlin
BEGIN:DAYLIGHT
DTSTART:20260329T030000
TZOFFSETFROM:+0100
TZOFFSETTO:+0200
TZNAME:CEST
END:DAYLIGHT
END:VTIMEZONE
END:VCALENDAR